BEGIN:VCALENDAR
VERSION:2.0
PRODID:-//The Coddiwomple Club - ECPv6.15.20//NONSGML v1.0//EN
CALSCALE:GREGORIAN
METHOD:PUBLISH
X-ORIGINAL-URL:https://coddiwompleclub.org.uk
X-WR-CALDESC:Events for The Coddiwomple Club
REFRESH-INTERVAL;VALUE=DURATION:PT1H
X-Robots-Tag:noindex
X-PUBLISHED-TTL:PT1H
BEGIN:VTIMEZONE
TZID:UTC
BEGIN:STANDARD
TZOFFSETFROM:+0000
TZOFFSETTO:+0000
TZNAME:UTC
DTSTART:20250101T000000
END:STANDARD
END:VTIMEZONE
BEGIN:VEVENT
DTSTART;TZID=UTC:20260704T090000
DTEND;TZID=UTC:20260704T140000
DTSTAMP:20260422T231502
CREATED:20260208T113423Z
LAST-MODIFIED:20260301T090319Z
UID:10000008-1783155600-1783173600@coddiwompleclub.org.uk
SUMMARY:Dinas Emrys
DESCRIPTION:Dinas Emrys is one of Eryri’s most magical hidden corners\, perched above the valley near Beddgelert. We’ll follow forest trails and rocky paths up to the ruins of the old hill-fort\, where Welsh legends say dragons once battled beneath our boots. Don’t worry\, it’s much calmer these days… mostly. \nThis is a relaxed\, family-friendly guided hike designed to build confidence outdoors. We’ll take a steady pace with plenty of stops for snacks\, stories\, and those important “I’ve found a stick” moments. It’s not about speed or big summits\, it’s about fresh air\, real adventure\, and making memories as a family.
URL:https://coddiwompleclub.org.uk/event/dinas-emrys/
LOCATION:Snowdonia
CATEGORIES:Community Walks
ATTACH;FMTTYPE=image/webp:https://coddiwompleclub.org.uk/wp-content/uploads/2026/01/Dinas-Emrys.webp
END:VEVENT
END:VCALENDAR